BEGIN:VCALENDAR
VERSION:2.0
PRODID:-//Parents-Espoir - ECPv6.15.20//NONSGML v1.0//EN
CALSCALE:GREGORIAN
METHOD:PUBLISH
X-WR-CALNAME:Parents-Espoir
X-ORIGINAL-URL:https://www.parents-espoir.ca
X-WR-CALDESC:Évènements pour Parents-Espoir
REFRESH-INTERVAL;VALUE=DURATION:PT1H
X-Robots-Tag:noindex
X-PUBLISHED-TTL:PT1H
BEGIN:VTIMEZONE
TZID:America/Toronto
BEGIN:DAYLIGHT
TZOFFSETFROM:-0500
TZOFFSETTO:-0400
TZNAME:EDT
DTSTART:20150308T070000
END:DAYLIGHT
BEGIN:STANDARD
TZOFFSETFROM:-0400
TZOFFSETTO:-0500
TZNAME:EST
DTSTART:20151101T060000
END:STANDARD
BEGIN:DAYLIGHT
TZOFFSETFROM:-0500
TZOFFSETTO:-0400
TZNAME:EDT
DTSTART:20160313T070000
END:DAYLIGHT
BEGIN:STANDARD
TZOFFSETFROM:-0400
TZOFFSETTO:-0500
TZNAME:EST
DTSTART:20161106T060000
END:STANDARD
BEGIN:DAYLIGHT
TZOFFSETFROM:-0500
TZOFFSETTO:-0400
TZNAME:EDT
DTSTART:20170312T070000
END:DAYLIGHT
BEGIN:STANDARD
TZOFFSETFROM:-0400
TZOFFSETTO:-0500
TZNAME:EST
DTSTART:20171105T060000
END:STANDARD
END:VTIMEZONE
BEGIN:VEVENT
DTSTART;TZID=America/Toronto:20160820T110000
DTEND;TZID=America/Toronto:20160820T180000
DTSTAMP:20260419T081347
CREATED:20160905T174234Z
LAST-MODIFIED:20160919T034641Z
UID:988-1471690800-1471716000@www.parents-espoir.ca
SUMMARY:Kiosque de sensibilisation et levées de fonds durant le PARVIS EN FÊTE
DESCRIPTION:Cette activité de sensibilisation est organisée par L’Engrenage. \nL’Engrenage aide à créer des liens dans le quartier Saint-Roch pour plusieurs organismes\, des entreprises\, les résidents\, et\, au niveau municipal\, des représentants de l’arrondissement St-Roch\, en plus de s’intéresser aux passants et aux touristes. PARENTS-ESPOIR y participera. \nNous aurons ainsi l’occasion de faire connaître notre oeuvre pour la parentalité et la santé mentale\, en parlant de nos services et activités\, incluant nos nouveautés à venir cet automne. \nEn plus\, d’animer notre kiosque avec notre nouveau « BEACH FLAG »\, nous serons déguisés et vendrons aussi: \n\nde petits porte-clés ÉMOJI au coût de 3$;\ndes bouteilles pour faire des bulles pour les enfants 3 pour 2$;\ntoute contribution volontaire sera appréciée.\n\nNous favoriserons l’écoute des gens en leur faisant remplir un coupon pour cinq prix\, soit cinq jeux de bulles intéressants pour les enfants\, qu’on fera tirer à la fin de la journée. \nSi ça vous intéresse d’y participer à titre de bénévole ou tout simplement pour venir faire un tour à cette à la fête\, il suffit de nous appeler au 418 522-7167.  Nous vous donnerons toutes les informations supplémentaires désirées. \nAjoutons que pour rire un peu plus ensemble\, vous pouvez venir déguisé si le cœur vous en dit! \n 
URL:https://www.parents-espoir.ca/evenement/kiosque-de-sensibilisation-et-levees-de-fonds-durant-le-parvis-en-fete/
LOCATION:Rue St-Joseph\, Quartier St-Roch\, QUébec\, Québec
CATEGORIES:Activités bénéfice,Activités de sensibilisation,Évènement et sorties
END:VEVENT
END:VCALENDAR